Package: magpie Version: 1.10.0 Command: /home/biocbuild/bbs-3.22-bioc/R/bin/R CMD check --install=check:magpie.install-out.txt --library=/home/biocbuild/bbs-3.22-bioc/R/site-library --timings magpie_1.10.0.tar.gz StartedAt: 2025-11-12 01:04:58 -0500 (Wed, 12 Nov 2025) EndedAt: 2025-11-12 01:09:44 -0500 (Wed, 12 Nov 2025) EllapsedTime: 286.4 seconds RetCode: 0 Status: WARNINGS CheckDir: magpie.Rcheck Warnings: 1