Package: magpie Version: 1.8.0 Command: /Library/Frameworks/R.framework/Resources/bin/R CMD INSTALL magpie StartedAt: 2025-09-29 16:09:04 -0400 (Mon, 29 Sep 2025) EndedAt: 2025-09-29 16:10:28 -0400 (Mon, 29 Sep 2025) EllapsedTime: 84.3 seconds RetCode: 0 Status: OK