Package: magpie Version: 1.8.0 Command: /Library/Frameworks/R.framework/Resources/bin/R CMD check --install=check:magpie.install-out.txt --library=/Library/Frameworks/R.framework/Resources/library --no-vignettes --timings magpie_1.8.0.tar.gz StartedAt: 2025-09-30 05:44:04 -0400 (Tue, 30 Sep 2025) EndedAt: 2025-09-30 05:53:26 -0400 (Tue, 30 Sep 2025) EllapsedTime: 562.5 seconds RetCode: 0 Status: WARNINGS CheckDir: magpie.Rcheck Warnings: 1