Package: maftools Version: 2.24.0 Command: /Library/Frameworks/R.framework/Resources/bin/R CMD INSTALL maftools StartedAt: 2025-09-25 15:19:37 -0400 (Thu, 25 Sep 2025) EndedAt: 2025-09-25 15:20:15 -0400 (Thu, 25 Sep 2025) EllapsedTime: 38.6 seconds RetCode: 0 Status: OK