Package: maftools Version: 2.24.0 Command: /Library/Frameworks/R.framework/Resources/bin/R CMD check --install=check:maftools.install-out.txt --library=/Library/Frameworks/R.framework/Resources/library --no-vignettes --timings maftools_2.24.0.tar.gz StartedAt: 2025-09-26 05:44:07 -0400 (Fri, 26 Sep 2025) EndedAt: 2025-09-26 05:49:02 -0400 (Fri, 26 Sep 2025) EllapsedTime: 295.4 seconds RetCode: 0 Status: OK CheckDir: maftools.Rcheck Warnings: 0