Package: maftools Version: 2.24.0 Command: /Library/Frameworks/R.framework/Resources/bin/R CMD build --keep-empty-dirs --no-resave-data maftools StartedAt: 2025-09-25 20:09:25 -0400 (Thu, 25 Sep 2025) EndedAt: 2025-09-25 20:16:32 -0400 (Thu, 25 Sep 2025) EllapsedTime: 427.0 seconds RetCode: 0 Status: OK PackageFile: maftools_2.24.0.tar.gz PackageFileSize: 12.33 MiB