Package: maftools Version: 2.24.0 Command: rm -rf maftools.buildbin-libdir && mkdir maftools.buildbin-libdir && /Users/biocbuild/BBS/utils/build-universal.sh maftools_2.24.0.tar.gz /Library/Frameworks/R.framework/Resources/bin/R maftools.buildbin-libdir StartedAt: 2025-09-26 14:46:35 -0400 (Fri, 26 Sep 2025) EndedAt: 2025-09-26 14:47:56 -0400 (Fri, 26 Sep 2025) EllapsedTime: 80.5 seconds RetCode: 0 Status: OK PackageFile: maftools_2.24.0.tgz PackageFileSize: 13.11 MiB