Package: maftools Version: 2.24.0 Command: /home/biocbuild/R/R/bin/R CMD build --keep-empty-dirs --no-resave-data maftools StartedAt: 2025-09-26 03:09:24 -0000 (Fri, 26 Sep 2025) EndedAt: 2025-09-26 03:13:58 -0000 (Fri, 26 Sep 2025) EllapsedTime: 274.1 seconds RetCode: 0 Status: OK PackageFile: maftools_2.24.0.tar.gz PackageFileSize: 11.54 MiB