Package: maftools Version: 2.24.0 Command: /Library/Frameworks/R.framework/Resources/bin/R CMD check --install=check:maftools.install-out.txt --library=/Library/Frameworks/R.framework/Resources/library --no-vignettes --timings maftools_2.24.0.tar.gz StartedAt: 2025-09-27 01:31:39 -0400 (Sat, 27 Sep 2025) EndedAt: 2025-09-27 01:34:13 -0400 (Sat, 27 Sep 2025) EllapsedTime: 153.0 seconds RetCode: 0 Status: OK CheckDir: maftools.Rcheck Warnings: 0