Package: maSigPro Version: 1.81.0 Command: rm -rf maSigPro.buildbin-libdir && mkdir maSigPro.buildbin-libdir && F:\biocbuild\bbs-3.22-bioc\R\bin\R.exe CMD INSTALL --build --library=maSigPro.buildbin-libdir maSigPro_1.81.0.tar.gz StartedAt: 2025-08-15 10:37:38 -0400 (Fri, 15 Aug 2025) EndedAt: 2025-08-15 10:38:11 -0400 (Fri, 15 Aug 2025) EllapsedTime: 33.2 seconds RetCode: 0 Status: OK PackageFile: maSigPro_1.81.0.zip PackageFileSize: 1.609 MiB