Package: maSigPro Version: 1.82.0 Command: /Library/Frameworks/R.framework/Resources/bin/R CMD INSTALL maSigPro StartedAt: 2025-11-02 15:22:19 -0500 (Sun, 02 Nov 2025) EndedAt: 2025-11-02 15:22:28 -0500 (Sun, 02 Nov 2025) EllapsedTime: 9.5 seconds RetCode: 0 Status: OK