Package: maSigPro Version: 1.82.0 Command: /Library/Frameworks/R.framework/Resources/bin/R CMD check --install=check:maSigPro.install-out.txt --library=/Library/Frameworks/R.framework/Resources/library --no-vignettes --timings maSigPro_1.82.0.tar.gz StartedAt: 2025-10-31 22:12:39 -0400 (Fri, 31 Oct 2025) EndedAt: 2025-10-31 22:15:21 -0400 (Fri, 31 Oct 2025) EllapsedTime: 161.4 seconds RetCode: 0 Status: OK CheckDir: maSigPro.Rcheck Warnings: 0