Package: mCSEA Version: 1.30.0 Command: /home/biocbuild/R/R/bin/R CMD INSTALL mCSEA StartedAt: 2025-11-20 22:52:06 -0000 (Thu, 20 Nov 2025) EndedAt: 2025-11-20 22:52:54 -0000 (Thu, 20 Nov 2025) EllapsedTime: 48.4 seconds RetCode: 0 Status: OK