Package: mCSEA Version: 1.30.0 Command: /home/biocbuild/R/R/bin/R CMD build --keep-empty-dirs --no-resave-data mCSEA StartedAt: 2025-11-21 03:41:18 -0000 (Fri, 21 Nov 2025) EndedAt: 2025-11-21 03:44:15 -0000 (Fri, 21 Nov 2025) EllapsedTime: 177.1 seconds RetCode: 1 Status: ERROR PackageFile: None PackageFileSize: NA