Package: mCSEA Version: 1.30.0 Command: /Library/Frameworks/R.framework/Resources/bin/R CMD INSTALL mCSEA StartedAt: 2025-11-17 18:56:42 -0500 (Mon, 17 Nov 2025) EndedAt: 2025-11-17 18:58:01 -0500 (Mon, 17 Nov 2025) EllapsedTime: 78.7 seconds RetCode: 0 Status: OK