Package: mCSEA Version: 1.30.0 Command: /Library/Frameworks/R.framework/Resources/bin/R CMD build --keep-empty-dirs --no-resave-data mCSEA StartedAt: 2025-11-17 23:47:08 -0500 (Mon, 17 Nov 2025) EndedAt: 2025-11-17 23:51:46 -0500 (Mon, 17 Nov 2025) EllapsedTime: 277.3 seconds RetCode: 1 Status: ERROR PackageFile: None PackageFileSize: NA