Package: mCSEA Version: 1.30.0 Command: /Library/Frameworks/R.framework/Resources/bin/R CMD INSTALL mCSEA StartedAt: 2025-11-10 15:31:35 -0500 (Mon, 10 Nov 2025) EndedAt: 2025-11-10 15:31:50 -0500 (Mon, 10 Nov 2025) EllapsedTime: 15.4 seconds RetCode: 0 Status: OK