Package: mCSEA Version: 1.30.0 Command: /Library/Frameworks/R.framework/Resources/bin/R CMD build --keep-empty-dirs --no-resave-data mCSEA StartedAt: 2025-11-10 16:55:03 -0500 (Mon, 10 Nov 2025) EndedAt: 2025-11-10 16:56:07 -0500 (Mon, 10 Nov 2025) EllapsedTime: 63.8 seconds RetCode: 1 Status: ERROR PackageFile: None PackageFileSize: NA