Package: mCSEA Version: 1.30.0 Command: /Library/Frameworks/R.framework/Resources/bin/R CMD INSTALL mCSEA StartedAt: 2025-11-20 19:19:28 -0500 (Thu, 20 Nov 2025) EndedAt: 2025-11-20 19:20:12 -0500 (Thu, 20 Nov 2025) EllapsedTime: 43.9 seconds RetCode: 0 Status: OK