Package: mCSEA Version: 1.30.0 Maintainer: Jordi Martorell-Marugán MaintainerEmail: jmartorellm at gmail.com git_url: https://git.bioconductor.org/packages/mCSEA git_branch: RELEASE_3_22 git_last_commit: 3144485 git_last_commit_date: 2025-10-29 10:42:49 -0500 (Wed, 29 Oct 2025)