Package: m6Aboost Version: 1.14.0 Command: /Library/Frameworks/R.framework/Resources/bin/R CMD build --keep-empty-dirs --no-resave-data m6Aboost StartedAt: 2025-10-13 20:08:42 -0400 (Mon, 13 Oct 2025) EndedAt: 2025-10-13 20:11:17 -0400 (Mon, 13 Oct 2025) EllapsedTime: 154.9 seconds RetCode: 0 Status: OK PackageFile: m6Aboost_1.14.0.tar.gz PackageFileSize: 759.5 KiB