Package: lute Version: 1.6.0 Command: /home/biocbuild/R/R/bin/R CMD build --keep-empty-dirs --no-resave-data lute StartedAt: 2025-11-18 02:42:52 -0000 (Tue, 18 Nov 2025) EndedAt: 2025-11-18 02:43:56 -0000 (Tue, 18 Nov 2025) EllapsedTime: 64.0 seconds RetCode: 0 Status: OK PackageFile: lute_1.6.0.tar.gz PackageFileSize: 2.27 MiB