Package: lute Version: 1.6.0 Command: /home/biocbuild/bbs-3.22-bioc/R/bin/R CMD INSTALL lute StartedAt: 2025-11-17 18:13:00 -0500 (Mon, 17 Nov 2025) EndedAt: 2025-11-17 18:13:33 -0500 (Mon, 17 Nov 2025) EllapsedTime: 32.7 seconds RetCode: 0 Status: OK