Package: lumi Version: 2.62.0 Command: /home/biocbuild/R/R/bin/R CMD INSTALL lumi StartedAt: 2025-11-20 22:53:45 -0000 (Thu, 20 Nov 2025) EndedAt: 2025-11-20 22:55:01 -0000 (Thu, 20 Nov 2025) EllapsedTime: 75.7 seconds RetCode: 0 Status: OK