Package: lumi Version: 2.62.0 Command: /home/biocbuild/R/R/bin/R CMD check --install=check:lumi.install-out.txt --library=/home/biocbuild/R/R/site-library --no-vignettes --timings lumi_2.62.0.tar.gz StartedAt: 2025-11-21 12:21:11 -0000 (Fri, 21 Nov 2025) EndedAt: 2025-11-21 12:30:40 -0000 (Fri, 21 Nov 2025) EllapsedTime: 569.6 seconds RetCode: 0 Status: WARNINGS CheckDir: lumi.Rcheck Warnings: 3