Package: lumi Version: 2.61.0 Command: F:\biocbuild\bbs-3.22-bioc\R\bin\R.exe CMD INSTALL lumi StartedAt: 2025-08-14 17:05:45 -0400 (Thu, 14 Aug 2025) EndedAt: 2025-08-14 17:07:29 -0400 (Thu, 14 Aug 2025) EllapsedTime: 103.5 seconds RetCode: 0 Status: OK