Package: lumi Version: 2.61.0 Command: rm -rf lumi.buildbin-libdir && mkdir lumi.buildbin-libdir && F:\biocbuild\bbs-3.22-bioc\R\bin\R.exe CMD INSTALL --build --library=lumi.buildbin-libdir lumi_2.61.0.tar.gz StartedAt: 2025-08-15 10:36:18 -0400 (Fri, 15 Aug 2025) EndedAt: 2025-08-15 10:38:04 -0400 (Fri, 15 Aug 2025) EllapsedTime: 106.0 seconds RetCode: 0 Status: OK PackageFile: lumi_2.61.0.zip PackageFileSize: 4.733 MiB