Package: lpsymphony Version: 1.38.0 Command: /home/biocbuild/R/R/bin/R CMD INSTALL lpsymphony StartedAt: 2025-11-17 21:02:33 -0000 (Mon, 17 Nov 2025) EndedAt: 2025-11-17 21:13:38 -0000 (Mon, 17 Nov 2025) EllapsedTime: 664.7 seconds RetCode: 0 Status: OK