Package: lpsymphony Version: 1.38.0 Command: /home/biocbuild/R/R/bin/R CMD build --keep-empty-dirs --no-resave-data lpsymphony StartedAt: 2025-11-18 02:42:44 -0000 (Tue, 18 Nov 2025) EndedAt: 2025-11-18 02:54:08 -0000 (Tue, 18 Nov 2025) EllapsedTime: 684.3 seconds RetCode: 0 Status: OK PackageFile: lpsymphony_1.38.0.tar.gz PackageFileSize: 7.272 MiB