Package: lpsymphony Version: 1.37.0 Command: F:\biocbuild\bbs-3.22-bioc\R\bin\R.exe CMD check --no-multiarch --install=check:lpsymphony.install-out.txt --library=F:\biocbuild\bbs-3.22-bioc\R\library --no-vignettes --timings lpsymphony_1.37.0.tar.gz StartedAt: 2025-08-15 04:40:55 -0400 (Fri, 15 Aug 2025) EndedAt: 2025-08-15 04:42:40 -0400 (Fri, 15 Aug 2025) EllapsedTime: 105.8 seconds RetCode: 0 Status: WARNINGS CheckDir: lpsymphony.Rcheck Warnings: 1