Package: lpsymphony Version: 1.37.0 Command: rm -rf lpsymphony.buildbin-libdir && mkdir lpsymphony.buildbin-libdir && F:\biocbuild\bbs-3.22-bioc\R\bin\R.exe CMD INSTALL --build --library=lpsymphony.buildbin-libdir lpsymphony_1.37.0.tar.gz StartedAt: 2025-08-15 10:36:09 -0400 (Fri, 15 Aug 2025) EndedAt: 2025-08-15 10:36:42 -0400 (Fri, 15 Aug 2025) EllapsedTime: 33.0 seconds RetCode: 0 Status: OK PackageFile: lpsymphony_1.37.0.zip PackageFileSize: 2.726 MiB