Package: lpsymphony Version: 1.36.0 Command: /home/biocbuild/bbs-3.21-bioc/R/bin/R CMD INSTALL lpsymphony StartedAt: 2025-10-01 15:04:50 -0400 (Wed, 01 Oct 2025) EndedAt: 2025-10-01 15:12:25 -0400 (Wed, 01 Oct 2025) EllapsedTime: 454.6 seconds RetCode: 0 Status: OK