Package: lpsymphony Version: 1.36.0 Command: /home/biocbuild/bbs-3.21-bioc/R/bin/R CMD build --keep-empty-dirs --no-resave-data lpsymphony StartedAt: 2025-10-01 18:19:10 -0400 (Wed, 01 Oct 2025) EndedAt: 2025-10-01 18:26:59 -0400 (Wed, 01 Oct 2025) EllapsedTime: 468.5 seconds RetCode: 0 Status: OK PackageFile: lpsymphony_1.36.0.tar.gz PackageFileSize: 11.86 MiB