Package: lpsymphony Version: 1.38.0 Command: /Library/Frameworks/R.framework/Resources/bin/R CMD check --install=check:lpsymphony.install-out.txt --library=/Library/Frameworks/R.framework/Resources/library --no-vignettes --timings lpsymphony_1.38.0.tar.gz StartedAt: 2025-11-10 20:46:20 -0500 (Mon, 10 Nov 2025) EndedAt: 2025-11-10 20:46:35 -0500 (Mon, 10 Nov 2025) EllapsedTime: 15.2 seconds RetCode: 0 Status: WARNINGS CheckDir: lpsymphony.Rcheck Warnings: 1