Package: lpsymphony Version: 1.38.0 Command: rm -rf lpsymphony.buildbin-libdir && mkdir lpsymphony.buildbin-libdir && /Users/biocbuild/BBS/utils/build-universal.sh lpsymphony_1.38.0.tar.gz /Library/Frameworks/R.framework/Resources/bin/R lpsymphony.buildbin-libdir StartedAt: 2025-11-10 23:25:12 -0500 (Mon, 10 Nov 2025) EndedAt: 2025-11-10 23:28:54 -0500 (Mon, 10 Nov 2025) EllapsedTime: 221.7 seconds RetCode: 0 Status: OK PackageFile: lpsymphony_1.38.0.tgz PackageFileSize: 1.851 MiB