Package: lpsymphony Version: 1.36.0 Command: /Library/Frameworks/R.framework/Resources/bin/R CMD INSTALL lpsymphony StartedAt: 2025-09-29 15:10:42 -0400 (Mon, 29 Sep 2025) EndedAt: 2025-09-29 15:19:35 -0400 (Mon, 29 Sep 2025) EllapsedTime: 533.3 seconds RetCode: 0 Status: OK