Package: lpsymphony Version: 1.36.0 Command: /Library/Frameworks/R.framework/Resources/bin/R CMD build --keep-empty-dirs --no-resave-data lpsymphony StartedAt: 2025-09-30 03:17:15 -0400 (Tue, 30 Sep 2025) EndedAt: 2025-09-30 03:27:31 -0400 (Tue, 30 Sep 2025) EllapsedTime: 616.4 seconds RetCode: 0 Status: OK PackageFile: lpsymphony_1.36.0.tar.gz PackageFileSize: 11.87 MiB