Package: lpNet Version: 2.40.0 Command: /Library/Frameworks/R.framework/Resources/bin/R CMD INSTALL lpNet StartedAt: 2025-10-13 15:45:46 -0400 (Mon, 13 Oct 2025) EndedAt: 2025-10-13 15:45:59 -0400 (Mon, 13 Oct 2025) EllapsedTime: 13.0 seconds RetCode: 0 Status: OK