Package: lpNet Version: 2.40.0 Command: /Library/Frameworks/R.framework/Resources/bin/R CMD check --install=check:lpNet.install-out.txt --library=/Library/Frameworks/R.framework/Resources/library --no-vignettes --timings lpNet_2.40.0.tar.gz StartedAt: 2025-10-14 05:53:44 -0400 (Tue, 14 Oct 2025) EndedAt: 2025-10-14 05:55:04 -0400 (Tue, 14 Oct 2025) EllapsedTime: 80.4 seconds RetCode: 0 Status: WARNINGS CheckDir: lpNet.Rcheck Warnings: 1