Package: looking4clusters Version: 1.0.0 Command: /home/biocbuild/bbs-3.22-bioc/R/bin/R CMD INSTALL looking4clusters StartedAt: 2025-11-06 15:25:25 -0500 (Thu, 06 Nov 2025) EndedAt: 2025-11-06 15:25:28 -0500 (Thu, 06 Nov 2025) EllapsedTime: 2.2 seconds RetCode: 0 Status: OK