Package: looking4clusters Version: 1.0.0 Command: /home/biocbuild/bbs-3.22-bioc/R/bin/R CMD check --install=check:looking4clusters.install-out.txt --library=/home/biocbuild/bbs-3.22-bioc/R/site-library --timings looking4clusters_1.0.0.tar.gz StartedAt: 2025-11-07 00:56:37 -0500 (Fri, 07 Nov 2025) EndedAt: 2025-11-07 01:00:58 -0500 (Fri, 07 Nov 2025) EllapsedTime: 261.4 seconds RetCode: 0 Status: OK CheckDir: looking4clusters.Rcheck Warnings: 0