Package: looking4clusters Version: 1.0.0 Command: /Library/Frameworks/R.framework/Resources/bin/R CMD check --install=check:looking4clusters.install-out.txt --library=/Library/Frameworks/R.framework/Resources/library --no-vignettes --timings looking4clusters_1.0.0.tar.gz StartedAt: 2025-11-03 22:11:12 -0500 (Mon, 03 Nov 2025) EndedAt: 2025-11-03 22:13:58 -0500 (Mon, 03 Nov 2025) EllapsedTime: 166.5 seconds RetCode: 0 Status: OK CheckDir: looking4clusters.Rcheck Warnings: 0