Package: looking4clusters Version: 1.0.0 Maintainer: David Barrios MaintainerEmail: metal at usal.es git_url: https://git.bioconductor.org/packages/looking4clusters git_branch: RELEASE_3_22 git_last_commit: 8c0f82c git_last_commit_date: 2025-10-29 11:38:18 -0500 (Wed, 29 Oct 2025)