Package: logicFS Version: 2.29.0 Command: /home/biocbuild/R/R/bin/R CMD check --install=check:logicFS.install-out.txt --library=/home/biocbuild/R/R/site-library --no-vignettes --timings logicFS_2.29.0.tar.gz StartedAt: 2025-10-17 10:35:52 -0000 (Fri, 17 Oct 2025) EndedAt: 2025-10-17 10:36:55 -0000 (Fri, 17 Oct 2025) EllapsedTime: 63.1 seconds RetCode: 0 Status: OK CheckDir: logicFS.Rcheck Warnings: 0