Package: logicFS Version: 2.29.0 Command: F:\biocbuild\bbs-3.22-bioc\R\bin\R.exe CMD check --no-multiarch --install=check:logicFS.install-out.txt --library=F:\biocbuild\bbs-3.22-bioc\R\library --no-vignettes --timings logicFS_2.29.0.tar.gz StartedAt: 2025-08-15 04:40:08 -0400 (Fri, 15 Aug 2025) EndedAt: 2025-08-15 04:41:26 -0400 (Fri, 15 Aug 2025) EllapsedTime: 77.4 seconds RetCode: 0 Status: OK CheckDir: logicFS.Rcheck Warnings: 0