Package: loci2path Version: 1.28.0 Command: E:\biocbuild\bbs-3.21-bioc\R\bin\R.exe CMD check --no-multiarch --install=check:loci2path.install-out.txt --library=E:\biocbuild\bbs-3.21-bioc\R\library --no-vignettes --timings loci2path_1.28.0.tar.gz StartedAt: 2025-08-15 03:38:19 -0400 (Fri, 15 Aug 2025) EndedAt: 2025-08-15 03:40:20 -0400 (Fri, 15 Aug 2025) EllapsedTime: 120.9 seconds RetCode: 0 Status: OK CheckDir: loci2path.Rcheck Warnings: 0