Package: lisaClust Version: 1.16.0 Command: /home/biocbuild/bbs-3.21-bioc/R/bin/R CMD INSTALL lisaClust StartedAt: 2025-10-15 15:37:19 -0400 (Wed, 15 Oct 2025) EndedAt: 2025-10-15 15:37:48 -0400 (Wed, 15 Oct 2025) EllapsedTime: 28.4 seconds RetCode: 0 Status: OK