Package: lisaClust Version: 1.16.0 Command: /Library/Frameworks/R.framework/Resources/bin/R CMD INSTALL lisaClust StartedAt: 2025-10-13 16:19:29 -0400 (Mon, 13 Oct 2025) EndedAt: 2025-10-13 16:20:30 -0400 (Mon, 13 Oct 2025) EllapsedTime: 60.7 seconds RetCode: 0 Status: OK