Package: lisaClust Version: 1.16.0 Command: /Library/Frameworks/R.framework/Resources/bin/R CMD check --install=check:lisaClust.install-out.txt --library=/Library/Frameworks/R.framework/Resources/library --no-vignettes --timings lisaClust_1.16.0.tar.gz StartedAt: 2025-10-14 05:50:03 -0400 (Tue, 14 Oct 2025) EndedAt: 2025-10-14 06:00:08 -0400 (Tue, 14 Oct 2025) EllapsedTime: 604.7 seconds RetCode: 0 Status: OK CheckDir: lisaClust.Rcheck Warnings: 0