Package: lisaClust Version: 1.16.0 Command: rm -rf lisaClust.buildbin-libdir && mkdir lisaClust.buildbin-libdir && /Users/biocbuild/BBS/utils/build-universal.sh lisaClust_1.16.0.tar.gz /Library/Frameworks/R.framework/Resources/bin/R lisaClust.buildbin-libdir StartedAt: 2025-10-15 19:05:36 -0400 (Wed, 15 Oct 2025) EndedAt: 2025-10-15 19:06:14 -0400 (Wed, 15 Oct 2025) EllapsedTime: 37.6 seconds RetCode: 0 Status: OK PackageFile: lisaClust_1.16.0.tgz PackageFileSize: 2.639 MiB